BEGIN:VCALENDAR
VERSION:2.0
PRODID:-//Marshall Rotary Club - ECPv6.15.18//NONSGML v1.0//EN
CALSCALE:GREGORIAN
METHOD:PUBLISH
X-ORIGINAL-URL:https://www.rotarymarshallmi.org
X-WR-CALDESC:Events for Marshall Rotary Club
REFRESH-INTERVAL;VALUE=DURATION:PT1H
X-Robots-Tag:noindex
X-PUBLISHED-TTL:PT1H
BEGIN:VTIMEZONE
TZID:UTC
BEGIN:STANDARD
TZOFFSETFROM:+0000
TZOFFSETTO:+0000
TZNAME:UTC
DTSTART:20170101T000000
END:STANDARD
END:VTIMEZONE
BEGIN:VTIMEZONE
TZID:America/New_York
BEGIN:DAYLIGHT
TZOFFSETFROM:-0500
TZOFFSETTO:-0400
TZNAME:EDT
DTSTART:20170312T070000
END:DAYLIGHT
BEGIN:STANDARD
TZOFFSETFROM:-0400
TZOFFSETTO:-0500
TZNAME:EST
DTSTART:20171105T060000
END:STANDARD
BEGIN:DAYLIGHT
TZOFFSETFROM:-0500
TZOFFSETTO:-0400
TZNAME:EDT
DTSTART:20180311T070000
END:DAYLIGHT
BEGIN:STANDARD
TZOFFSETFROM:-0400
TZOFFSETTO:-0500
TZNAME:EST
DTSTART:20181104T060000
END:STANDARD
BEGIN:DAYLIGHT
TZOFFSETFROM:-0500
TZOFFSETTO:-0400
TZNAME:EDT
DTSTART:20190310T070000
END:DAYLIGHT
BEGIN:STANDARD
TZOFFSETFROM:-0400
TZOFFSETTO:-0500
TZNAME:EST
DTSTART:20191103T060000
END:STANDARD
END:VTIMEZONE
BEGIN:VEVENT
DTSTART;TZID=UTC:20180717T190000
DTEND;TZID=UTC:20180717T210000
DTSTAMP:20260423T033715
CREATED:20180323T022054Z
LAST-MODIFIED:20180323T022054Z
UID:366-1531854000-1531861200@www.rotarymarshallmi.org
SUMMARY:Marshall Rotary Band Rehearsal
DESCRIPTION:Conductor – Ed Zentera \nAnnouncer – Tim Lake \n 
URL:https://www.rotarymarshallmi.org/event/marshall-rotary-band-rehearsal-8/
LOCATION:Marshall Middle School\, 100 E Green Street\, Marshall\, MI\, 49068\, United States
CATEGORIES:Rehearsal
ORGANIZER;CN="Dennis G Smith":MAILTO:dgsmith217@gmail.com
END:VEVENT
BEGIN:VEVENT
DTSTART;TZID=America/New_York:20180716T190000
DTEND;TZID=America/New_York:20180716T200000
DTSTAMP:20260423T033715
CREATED:20180323T022005Z
LAST-MODIFIED:20180323T022005Z
UID:364-1531767600-1531771200@www.rotarymarshallmi.org
SUMMARY:Marshall Rotary Band Rehearsal
DESCRIPTION:Conductor – Ed Zentera \nAnnouncer – Tim Lake \n 
URL:https://www.rotarymarshallmi.org/event/marshall-rotary-band-rehearsal-7/
LOCATION:Marshall Middle School\, 100 E Green Street\, Marshall\, MI\, 49068\, United States
CATEGORIES:Rehearsal
ORGANIZER;CN="Dennis G Smith":MAILTO:dgsmith217@gmail.com
END:VEVENT
BEGIN:VEVENT
DTSTART;TZID=UTC:20180710T190000
DTEND;TZID=UTC:20180710T210000
DTSTAMP:20260423T033715
CREATED:20180323T021711Z
LAST-MODIFIED:20180323T021711Z
UID:359-1531249200-1531256400@www.rotarymarshallmi.org
SUMMARY:Marshall Rotary Band Rehearsal
DESCRIPTION:Conductor – Amanda Burdette \nAnnouncer – Dan Stulberg \n 
URL:https://www.rotarymarshallmi.org/event/marshall-rotary-band-rehearsal-6/
LOCATION:Marshall Middle School\, 100 E Green Street\, Marshall\, MI\, 49068\, United States
CATEGORIES:Rehearsal
ORGANIZER;CN="Dennis G Smith":MAILTO:dgsmith217@gmail.com
END:VEVENT
BEGIN:VEVENT
DTSTART;TZID=America/New_York:20180709T190000
DTEND;TZID=America/New_York:20180709T210000
DTSTAMP:20260423T033715
CREATED:20180323T021607Z
LAST-MODIFIED:20180323T021607Z
UID:357-1531162800-1531170000@www.rotarymarshallmi.org
SUMMARY:Marshall Rotary Band Rehearsal
DESCRIPTION:Conductor – Amanda Burdette \nAnnouncer – Dan Stulberg \n 
URL:https://www.rotarymarshallmi.org/event/marshall-rotary-band-rehearsal-5/
LOCATION:Marshall Middle School\, 100 E Green Street\, Marshall\, MI\, 49068\, United States
CATEGORIES:Rehearsal
ORGANIZER;CN="Dennis G Smith":MAILTO:dgsmith217@gmail.com
END:VEVENT
BEGIN:VEVENT
DTSTART;TZID=America/New_York:20180703T190000
DTEND;TZID=America/New_York:20180703T210000
DTSTAMP:20260423T033715
CREATED:20180323T020950Z
LAST-MODIFIED:20180323T021030Z
UID:351-1530644400-1530651600@www.rotarymarshallmi.org
SUMMARY:Marshall Rotary Band Rehearsal
DESCRIPTION:Conductor – David Conklin \nAnnouncer – Alan Elliott
URL:https://www.rotarymarshallmi.org/event/marshall-rotary-band-rehearshal/
LOCATION:Marshall Middle School\, 100 E Green Street\, Marshall\, MI\, 49068\, United States
CATEGORIES:Rehearsal
ORGANIZER;CN="Dennis G Smith":MAILTO:dgsmith217@gmail.com
END:VEVENT
BEGIN:VEVENT
DTSTART;TZID=America/New_York:20180702T190000
DTEND;TZID=America/New_York:20180702T210000
DTSTAMP:20260423T033715
CREATED:20180323T020901Z
LAST-MODIFIED:20180323T021018Z
UID:349-1530558000-1530565200@www.rotarymarshallmi.org
SUMMARY:Marshall Rotary Band Rehearsal
DESCRIPTION:Conductor – David Conklin \nAnnouncer – Alan Elliott
URL:https://www.rotarymarshallmi.org/event/marshall-rotary-band-rehearsal-4/
LOCATION:Marshall Middle School\, 100 E Green Street\, Marshall\, MI\, 49068\, United States
CATEGORIES:Rehearsal
ORGANIZER;CN="Dennis G Smith":MAILTO:dgsmith217@gmail.com
END:VEVENT
BEGIN:VEVENT
DTSTART;TZID=America/New_York:20180626T190000
DTEND;TZID=America/New_York:20180626T210000
DTSTAMP:20260423T033715
CREATED:20180323T020626Z
LAST-MODIFIED:20180323T020626Z
UID:344-1530039600-1530046800@www.rotarymarshallmi.org
SUMMARY:Marshall Rotary Band Rehearsal
DESCRIPTION:Conductor – Christien Rupp \nAnnouncer – Tim Lake
URL:https://www.rotarymarshallmi.org/event/marshall-rotary-band-rehearsal-3/
LOCATION:Marshall Middle School\, 100 E Green Street\, Marshall\, MI\, 49068\, United States
CATEGORIES:Rehearsal
ORGANIZER;CN="Dennis G Smith":MAILTO:dgsmith217@gmail.com
END:VEVENT
BEGIN:VEVENT
DTSTART;TZID=America/New_York:20180625T190000
DTEND;TZID=America/New_York:20180625T210000
DTSTAMP:20260423T033715
CREATED:20180323T020448Z
LAST-MODIFIED:20180323T020448Z
UID:342-1529953200-1529960400@www.rotarymarshallmi.org
SUMMARY:Marshall Rotary Band Rehearsal
DESCRIPTION:Conductor – Christien Rupp \nAnnouncer – Tim Lake \n 
URL:https://www.rotarymarshallmi.org/event/marshall-rotary-band-rehearsal-2/
LOCATION:Marshall Middle School\, 100 E Green Street\, Marshall\, MI\, 49068\, United States
CATEGORIES:Rehearsal
ORGANIZER;CN="Dennis G Smith":MAILTO:dgsmith217@gmail.com
END:VEVENT
BEGIN:VEVENT
DTSTART;TZID=America/New_York:20180619T190000
DTEND;TZID=America/New_York:20180619T210000
DTSTAMP:20260423T033715
CREATED:20180323T015815Z
LAST-MODIFIED:20180323T020107Z
UID:330-1529434800-1529442000@www.rotarymarshallmi.org
SUMMARY:Marshall Rotary Band Rehearsal
DESCRIPTION:Conductor – Samuel McIlhagga \nAnnouncer – Alan Elliott \n 
URL:https://www.rotarymarshallmi.org/event/marshall-rotary-band-rehearsal/
LOCATION:Marshall Middle School\, 100 E Green Street\, Marshall\, MI\, 49068\, United States
CATEGORIES:Rehearsal
ORGANIZER;CN="Dennis G Smith":MAILTO:dgsmith217@gmail.com
END:VEVENT
BEGIN:VEVENT
DTSTART;TZID=America/New_York:20180618T190000
DTEND;TZID=America/New_York:20180618T210000
DTSTAMP:20260423T033715
CREATED:20180323T014816Z
LAST-MODIFIED:20180323T020122Z
UID:325-1529348400-1529355600@www.rotarymarshallmi.org
SUMMARY:Marshall Rotary Band Rehearsal
DESCRIPTION:Conductor – Samuel McIlhagga \nAnnouncer – Alan Elliott \n 
URL:https://www.rotarymarshallmi.org/event/marshall-rotary-band-concert-4/
LOCATION:Marshall Middle School\, 100 E Green Street\, Marshall\, MI\, 49068\, United States
CATEGORIES:Rehearsal
ORGANIZER;CN="Dennis G Smith":MAILTO:dgsmith217@gmail.com
END:VEVENT
BEGIN:VEVENT
DTSTART;TZID=America/New_York:20180612T190000
DTEND;TZID=America/New_York:20180612T210000
DTSTAMP:20260423T033715
CREATED:20180323T014121Z
LAST-MODIFIED:20180323T020132Z
UID:320-1528830000-1528837200@www.rotarymarshallmi.org
SUMMARY:Marshall Rotary Band Rehearsal
DESCRIPTION:Conductor – Jeremy Root \nAnnouncer – Dan Stulberg \n 
URL:https://www.rotarymarshallmi.org/event/marshall-rotary-band-concert-2/
LOCATION:Marshall Middle School\, 100 E Green Street\, Marshall\, MI\, 49068\, United States
CATEGORIES:Rehearsal
ORGANIZER;CN="Dennis G Smith":MAILTO:dgsmith217@gmail.com
END:VEVENT
BEGIN:VEVENT
DTSTART;TZID=America/New_York:20180611T190000
DTEND;TZID=America/New_York:20180611T210000
DTSTAMP:20260423T033715
CREATED:20180323T014304Z
LAST-MODIFIED:20180323T020142Z
UID:323-1528743600-1528750800@www.rotarymarshallmi.org
SUMMARY:Marshall Rotary Band Rehearsal
DESCRIPTION:Conductor – Jeremy Root \nAnnouncer – Dan Stulberg \n 
URL:https://www.rotarymarshallmi.org/event/marshall-rotary-band-concert-3/
LOCATION:Marshall Middle School\, 100 E Green Street\, Marshall\, MI\, 49068\, United States
CATEGORIES:Rehearsal
END:VEVENT
END:VCALENDAR